BEGIN:VCALENDAR
VERSION:2.0
PRODID:-//Institut français de Varma Yoga - ECPv5.9.1//NONSGML v1.0//EN
CALSCALE:GREGORIAN
METHOD:PUBLISH
X-WR-CALNAME:Institut français de Varma Yoga
X-ORIGINAL-URL:https://www.ifvy.fr
X-WR-CALDESC:évènements pour Institut français de Varma Yoga
BEGIN:VTIMEZONE
TZID:Europe/Paris
BEGIN:DAYLIGHT
TZOFFSETFROM:+0100
TZOFFSETTO:+0200
TZNAME:CEST
DTSTART:20190331T010000
END:DAYLIGHT
BEGIN:STANDARD
TZOFFSETFROM:+0200
TZOFFSETTO:+0100
TZNAME:CET
DTSTART:20191027T010000
END:STANDARD
END:VTIMEZONE
BEGIN:VEVENT
DTSTART;VALUE=DATE:20190725
DTEND;VALUE=DATE:20190801
DTSTAMP:20260422T225037
CREATED:20190503T133559Z
LAST-MODIFIED:20190504T163609Z
UID:1367-1564012800-1564617599@www.ifvy.fr
SUMMARY:Ayur Yoga et les points vitaux
DESCRIPTION:Avec Armanda Dos Santos\nCyrus Fay\nTony Dabau
URL:https://www.ifvy.fr/event/ayur-yoga-et-les-points-vitaux/
LOCATION:Centre Ida-Dhara\, Meyrignac l'Eglise\, 19800\, France
CATEGORIES:Stage de Yoga
ORGANIZER;CN="Cyrus%20Fay":MAILTO:cyrus.fay@ifvy.fr
END:VEVENT
END:VCALENDAR