BEGIN:VCALENDAR
VERSION:2.0
PRODID:-//Institut français de Varma Yoga - ECPv5.9.1//NONSGML v1.0//EN
CALSCALE:GREGORIAN
METHOD:PUBLISH
X-WR-CALNAME:Institut français de Varma Yoga
X-ORIGINAL-URL:https://www.ifvy.fr
X-WR-CALDESC:évènements pour Institut français de Varma Yoga
BEGIN:VTIMEZONE
TZID:Europe/Paris
BEGIN:DAYLIGHT
TZOFFSETFROM:+0100
TZOFFSETTO:+0200
TZNAME:CEST
DTSTART:20190331T010000
END:DAYLIGHT
BEGIN:STANDARD
TZOFFSETFROM:+0200
TZOFFSETTO:+0100
TZNAME:CET
DTSTART:20191027T010000
END:STANDARD
END:VTIMEZONE
BEGIN:VEVENT
DTSTART;TZID=Europe/Paris:20190626T191500
DTEND;TZID=Europe/Paris:20190626T211500
DTSTAMP:20260423T033105
CREATED:20190504T154937Z
LAST-MODIFIED:20190504T163712Z
UID:1415-1561576500-1561583700@www.ifvy.fr
SUMMARY:Paris 14ème
DESCRIPTION:
URL:https://www.ifvy.fr/event/paris-14eme-4/
LOCATION:Yogamania 7 rue du Maine 75014 Paris
CATEGORIES:Atelier
ORGANIZER;CN="Yogamania":MAILTO:contact@yogamania.fr
END:VEVENT
END:VCALENDAR