BEGIN:VCALENDAR
VERSION:2.0
PRODID:-//Institut français de Varma Yoga - ECPv5.9.1//NONSGML v1.0//EN
CALSCALE:GREGORIAN
METHOD:PUBLISH
X-WR-CALNAME:Institut français de Varma Yoga
X-ORIGINAL-URL:https://www.ifvy.fr
X-WR-CALDESC:évènements pour Institut français de Varma Yoga
BEGIN:VTIMEZONE
TZID:Europe/Paris
BEGIN:DAYLIGHT
TZOFFSETFROM:+0100
TZOFFSETTO:+0200
TZNAME:CEST
DTSTART:20190331T010000
END:DAYLIGHT
BEGIN:STANDARD
TZOFFSETFROM:+0200
TZOFFSETTO:+0100
TZNAME:CET
DTSTART:20191027T010000
END:STANDARD
END:VTIMEZONE
BEGIN:VEVENT
DTSTART;VALUE=DATE:20190718
DTEND;VALUE=DATE:20190725
DTSTAMP:20260423T001436
CREATED:20190503T133451Z
LAST-MODIFIED:20190504T163632Z
UID:1365-1563408000-1564012799@www.ifvy.fr
SUMMARY:Yoga et Ayurveda
DESCRIPTION:Avec Armanda Dos Santos\nCyrus Fay\net Patricia Galbrun
URL:https://www.ifvy.fr/event/yoga-et-ayurveda/
LOCATION:Centre Ida-Dhara\, Meyrignac l'Eglise\, 19800\, France
CATEGORIES:Stage de Yoga
ORGANIZER;CN="Cyrus%20Fay":MAILTO:cyrus.fay@ifvy.fr
END:VEVENT
END:VCALENDAR